BEGIN:VCALENDAR
VERSION:2.0
PRODID:-//Slovenska filharmonija //NONSGML Events //EN
CALSCALE:GREGORIAN
X-WR-CALNAME:Slovenska filharmonija
TZID:UTC+2
BEGIN:VEVENT
CREATED:20210816T094130Z
UID:2905
DTEND;VALUE=DATE:20220505T01:03
DTSTART;VALUE=DATE:20220505T193000
DTSTAMP:1651708800
LOCATION:Gallus Hall
DESCRIPTION:Slovenian Philharmonic Orchestra
Gordan Nikolić, violin and musical direction

Robert Schumann: Violin Concerto in D minor, WoO 1
Robert Schumann: Symphony No. 2 in C major, Op. 61

 
TITLE:Florestan and Eusebius
SUMMARY:Florestan and Eusebius
ORGANIZER:Slovenska filharmonija
URL;VALUE=URI:https://filharmonija.si/en/koncert/florestan-and-eusebius/
TRANSP:OPAQUE
BEGIN:VALARM
ACTION:DISPLAY
DESCRIPTION:Reminder for Florestan and Eusebius
END:VALARM
END:VEVENT
END:VCALENDAR
